BEGIN:VCALENDAR
VERSION:2.0
PRODID:-//OTTAWA MUSTANG CLUB - ECPv6.15.20//NONSGML v1.0//EN
CALSCALE:GREGORIAN
METHOD:PUBLISH
X-WR-CALNAME:OTTAWA MUSTANG CLUB
X-ORIGINAL-URL:https://ottawamustang.club
X-WR-CALDESC:Events for OTTAWA MUSTANG CLUB
REFRESH-INTERVAL;VALUE=DURATION:PT1H
X-Robots-Tag:noindex
X-PUBLISHED-TTL:PT1H
BEGIN:VTIMEZONE
TZID:America/Toronto
BEGIN:DAYLIGHT
TZOFFSETFROM:-0500
TZOFFSETTO:-0400
TZNAME:EDT
DTSTART:20240310T070000
END:DAYLIGHT
BEGIN:STANDARD
TZOFFSETFROM:-0400
TZOFFSETTO:-0500
TZNAME:EST
DTSTART:20241103T060000
END:STANDARD
BEGIN:DAYLIGHT
TZOFFSETFROM:-0500
TZOFFSETTO:-0400
TZNAME:EDT
DTSTART:20250309T070000
END:DAYLIGHT
BEGIN:STANDARD
TZOFFSETFROM:-0400
TZOFFSETTO:-0500
TZNAME:EST
DTSTART:20251102T060000
END:STANDARD
BEGIN:DAYLIGHT
TZOFFSETFROM:-0500
TZOFFSETTO:-0400
TZNAME:EDT
DTSTART:20260308T070000
END:DAYLIGHT
BEGIN:STANDARD
TZOFFSETFROM:-0400
TZOFFSETTO:-0500
TZNAME:EST
DTSTART:20261101T060000
END:STANDARD
END:VTIMEZONE
BEGIN:VEVENT
DTSTART;TZID=America/Toronto:20250918T180000
DTEND;TZID=America/Toronto:20250918T200000
DTSTAMP:20260422T051252
CREATED:20250915T114936Z
LAST-MODIFIED:20250915T114938Z
UID:2018-1758218400-1758225600@ottawamustang.club
SUMMARY:OMC Open Meet Up
DESCRIPTION:We are gathering at the Parking Lot at the Canadian Tire / Marks Work Warehouse on Merivale and Hunt Club this week at our OPEN meet up. So\, invite anyone who might be interested in joining us for some cars\, chats and some laughs! \n\n\n\nWhen: Thursday September 18th\, 2025 \n\n\n\nTime: 6:00 pm to 8:00 pm (note the time change due to the shorter days) \n\n\n\nWhere: Canadian Tire / Marks Work Warehouse Parking Lot – 1840 Merivale Road\, Nepean \n\n\n\nWhat to bring: \n\n\n\n\nYour Chairs\n\n\n\nMoney for the 50/50\n\n\n\nYour Membership Card for Door prizes\n\n\n\n\nSomething NEW: Bring some money for the Raffle Tickets….see picture above!!
URL:https://ottawamustang.club/event/omc-open-meet-up-4/
LOCATION:ON
CATEGORIES:Calendar,Public
END:VEVENT
BEGIN:VEVENT
DTSTART;TZID=America/Toronto:20250921T120000
DTEND;TZID=America/Toronto:20250921T120000
DTSTAMP:20260422T051252
CREATED:20250915T115154Z
LAST-MODIFIED:20250915T115156Z
UID:2021-1758456000-1758456000@ottawamustang.club
SUMMARY:OMC Annual BBQ & Potluck
DESCRIPTION:Our highly anticipated and attended event of the season is BACK!!! \n\n\n\nCome on out\, enjoy some delicious food\, play some games and most of all\, spend some time and share some laughs with the most amazing club in the world! \n\n\n\nHere are the details: \n\n\n\n\nDate: Sunday September 21st\, 2025 (rain date Saturday September 20th\, 2025)\n\n\n\nTime: Noon to Dusk\n\n\n\nAddress: 6668 Fourth Line Road\, North Gower\, ON\n\n\n\n\nThis is a Potluck event\, so please indicate what you can bring to share. Also\, this is open to the whole family. Its a great time for us all to gather\, so bring everyone out. \n\n\n\nTo register\, CLICK HERE
URL:https://ottawamustang.club/event/omc-annual-bbq-potluck/
LOCATION:ON
CATEGORIES:Calendar,Members
ATTACH;FMTTYPE=image/png:https://ottawamustang.club/wp-content/uploads/2024/09/image-10.png
END:VEVENT
BEGIN:VEVENT
DTSTART;TZID=America/Toronto:20250925T180000
DTEND;TZID=America/Toronto:20250925T200000
DTSTAMP:20260422T051252
CREATED:20250915T120117Z
LAST-MODIFIED:20250915T120119Z
UID:2026-1758823200-1758830400@ottawamustang.club
SUMMARY:Sponsor Meet Up
DESCRIPTION:We are off to see one of our sponsors\, Cote Poultry!  Come out and see what this business is all about!
URL:https://ottawamustang.club/event/sponsor-meet-up-2/
LOCATION:ON
CATEGORIES:Calendar,Members
ATTACH;FMTTYPE=image/png:https://ottawamustang.club/wp-content/uploads/2024/03/cotepoultry.png
END:VEVENT
BEGIN:VEVENT
DTSTART;TZID=America/Toronto:20250928T100000
DTEND;TZID=America/Toronto:20250928T150000
DTSTAMP:20260422T051252
CREATED:20250915T115424Z
LAST-MODIFIED:20250915T115426Z
UID:2023-1759053600-1759071600@ottawamustang.club
SUMMARY:Photo Op with P51 Mustang Airplane
DESCRIPTION:Photo Opportunity with a P51 Mustang Airplane \n\n\n\nThis is an amazing opportunity to have your beautiful Pony professional photographed with a Vintage P51 This sleek P-51 Mustang is perhaps the best all-around fighter of World War II. \n\n\n\nHere are the details: \n\n\n\n\nWhen: Sunday September 28th\, 2025\n\n\n\nTime: 10 am to 3 pm\n\n\n\nWhere: 1699 rue Arthur Fêcteau\,  Gatineau \n\n\n\nCost: $130.00\n\n\n\n\nWe have been allotted 5 time slots for us to come out. They will only allow 6 cars per hour\, therefore at this time\, we can only accommodate 30 cars. \n\n\n\nThe cost is $130.00 per vehicle. This includes entrance to the tarmac and 10 photos with your car and the airplane. The professional photographer we hired specializes in vehicle photography! \n\n\n\nA deposit of $30.00 is required in order to reserve your spot. Please send funds to: treasurer@ottawamustang.club \n\n\n\nBalance to be made in cash at the event. \n\n\n\nRemember\, this event is first come / first serve. To register\, CLICK HERE
URL:https://ottawamustang.club/event/photo-op-with-p51-mustang-airplane/
LOCATION:ON
CATEGORIES:Calendar,Members
ATTACH;FMTTYPE=image/jpeg:https://ottawamustang.club/wp-content/uploads/2025/09/P51-Mustang.jpg
END:VEVENT
END:VCALENDAR