BEGIN:VCALENDAR
VERSION:2.0
PRODID:-//OTTAWA MUSTANG CLUB - ECPv6.15.20//NONSGML v1.0//EN
CALSCALE:GREGORIAN
METHOD:PUBLISH
X-ORIGINAL-URL:https://ottawamustang.club
X-WR-CALDESC:Events for OTTAWA MUSTANG CLUB
REFRESH-INTERVAL;VALUE=DURATION:PT1H
X-Robots-Tag:noindex
X-PUBLISHED-TTL:PT1H
BEGIN:VTIMEZONE
TZID:America/Toronto
BEGIN:DAYLIGHT
TZOFFSETFROM:-0500
TZOFFSETTO:-0400
TZNAME:EDT
DTSTART:20240310T070000
END:DAYLIGHT
BEGIN:STANDARD
TZOFFSETFROM:-0400
TZOFFSETTO:-0500
TZNAME:EST
DTSTART:20241103T060000
END:STANDARD
BEGIN:DAYLIGHT
TZOFFSETFROM:-0500
TZOFFSETTO:-0400
TZNAME:EDT
DTSTART:20250309T070000
END:DAYLIGHT
BEGIN:STANDARD
TZOFFSETFROM:-0400
TZOFFSETTO:-0500
TZNAME:EST
DTSTART:20251102T060000
END:STANDARD
BEGIN:DAYLIGHT
TZOFFSETFROM:-0500
TZOFFSETTO:-0400
TZNAME:EDT
DTSTART:20260308T070000
END:DAYLIGHT
BEGIN:STANDARD
TZOFFSETFROM:-0400
TZOFFSETTO:-0500
TZNAME:EST
DTSTART:20261101T060000
END:STANDARD
END:VTIMEZONE
BEGIN:VEVENT
DTSTART;TZID=America/Toronto:20250601T103000
DTEND;TZID=America/Toronto:20250601T150000
DTSTAMP:20260422T094258
CREATED:20250309T173726Z
LAST-MODIFIED:20250505T183928Z
UID:1573-1748773800-1748790000@ottawamustang.club
SUMMARY:Full Moon Really Good Car Show
DESCRIPTION:More info to follow
URL:https://ottawamustang.club/event/full-moon-really-good-car-show/
LOCATION:Full Moon Autoworks\, 1439 Youville Drive\, Ottawa\, ON\, K1C 4M8\, Canada
CATEGORIES:Calendar,Members
ATTACH;FMTTYPE=image/jpeg:https://ottawamustang.club/wp-content/uploads/2025/03/Full-Moon-Car-Show.jpg
END:VEVENT
BEGIN:VEVENT
DTSTART;TZID=America/Toronto:20250605T180000
DTEND;TZID=America/Toronto:20250605T200000
DTSTAMP:20260422T094258
CREATED:20250521T120357Z
LAST-MODIFIED:20250521T120359Z
UID:1775-1749146400-1749153600@ottawamustang.club
SUMMARY:OMC Weekly Meet Up
DESCRIPTION:Weekly Open Meet Up at Ray Friel \n\n\n\nThis is an open meet\, so bring friends or anyone interested in Mustangs \n\n\n\nDon’t forget your chairs\, membership cards for door prizes and money for 50/50
URL:https://ottawamustang.club/event/omc-weekly-meet-up-6/
LOCATION:Ray Friel\, 1585 10th Line Road\, Orleans\, ON\, K1E 3E8\, Canada
CATEGORIES:Calendar,Public
ATTACH;FMTTYPE=image/jpeg:https://ottawamustang.club/wp-content/uploads/2024/03/Ray-Friel.jpg
END:VEVENT
BEGIN:VEVENT
DTSTART;TZID=America/Toronto:20250608T080000
DTEND;TZID=America/Toronto:20250608T150000
DTSTAMP:20260422T094258
CREATED:20250309T181440Z
LAST-MODIFIED:20250309T181442Z
UID:1585-1749369600-1749394800@ottawamustang.club
SUMMARY:Rideau Lakes Region Automotive Flea Market and Car Show
DESCRIPTION:Sunday 8:00 am to 12:00 pm Car Show Participant Registration \n\n\n\n\nDash plaques to the first 120 registered participants\n\n\n\nDoor prizes\, 50/50 Draw\, Raffle for major prizes\n\n\n\nTrophies for 15 classes plus 3 special awards\n\n\n\nOn site canteen will be serving food\n\n\n\nDJ and MC will be providing music all day\n\n\n\nEvent is in support of Camp Quality (Kids with Cancer)\n\n\n\nTrailer Parking available\, No trailers or tents on the show field\n\n\n\nCar Show participation is free with the exception of paying Fairground admissions $5.00 per person\n\n\n\n\nIf you plan on coming out – Please register HERE
URL:https://ottawamustang.club/event/rideau-lakes-region-automotive-flea-market-and-car-show/
LOCATION:Lombardy Fair Grounds\, 6 Kelly's Road\, Lombardy\, ON\, K0G 1L0\, Canada
CATEGORIES:Calendar,Members
ATTACH;FMTTYPE=image/png:https://ottawamustang.club/wp-content/uploads/2025/03/rideau-lakes-page-1.png
END:VEVENT
BEGIN:VEVENT
DTSTART;TZID=America/Toronto:20250613T123000
DTEND;TZID=America/Toronto:20250613T140000
DTSTAMP:20260422T094258
CREATED:20250521T114824Z
LAST-MODIFIED:20250521T114826Z
UID:1763-1749817800-1749823200@ottawamustang.club
SUMMARY:St. Pius School Gathering
DESCRIPTION:What are you doing on Friday\, June 13th? \n\n\n\nWe have been invited by the Photography Club of St. Pius High School to come out and have some really cool photos done! Not only will we get some really cool pics\, but the students will have some great ‘Stangs to photograph!! \n\n\n\nClick HERE to register
URL:https://ottawamustang.club/event/st-pius-school-gathering/
LOCATION:St.Pius High School\, 1481 Fisher Avenue\, Ottawa\, ON\, Canada
CATEGORIES:Calendar,Members
ATTACH;FMTTYPE=image/jpeg:https://ottawamustang.club/wp-content/uploads/2025/05/St.-Pius-HS.jpg
END:VEVENT
BEGIN:VEVENT
DTSTART;TZID=America/Toronto:20250614T100000
DTEND;TZID=America/Toronto:20250614T170000
DTSTAMP:20260422T094258
CREATED:20250521T115242Z
LAST-MODIFIED:20250522T115433Z
UID:1768-1749895200-1749920400@ottawamustang.club
SUMMARY:Mustang Dyno Day
DESCRIPTION:nternational Dyno Day \n\n\n\nWhere: International Dyno Authority – 2535 Blackwell Street\, Ottawa\, ON \n\n\n\nTime: 10:00 am to 5:00 pm \n\n\n\nWhen: Saturday June 14th \n\n\n\nThis is going to be an exciting event! There will be a BBQ\, prizes and of course\, some baseline testing. Please register for the testing by June 4th! \n\n\n\nFor more information on the day\, click HERE \n\n\n\nCheck out the fun from last year’s event:  https://youtu.be/4EwASK26HPI?si=kCVX83KEAVfan8L2
URL:https://ottawamustang.club/event/mustang-dyno-day/
LOCATION:International Dyno Authority\, 2535 Blackwell St\, Ottawa\, ON\, Canada
CATEGORIES:Calendar,Public
ATTACH;FMTTYPE=image/jpeg:https://ottawamustang.club/wp-content/uploads/2025/05/2025-Mustang-Day.jpg
END:VEVENT
BEGIN:VEVENT
DTSTART;TZID=America/Toronto:20250619T180000
DTEND;TZID=America/Toronto:20250619T200000
DTSTAMP:20260422T094258
CREATED:20250521T121901Z
LAST-MODIFIED:20250521T121942Z
UID:1778-1750356000-1750363200@ottawamustang.club
SUMMARY:OMC Weekly Meeting at The Mustang Auto Shop
DESCRIPTION:Come on out and visit Joel’s new location!!   \n\n\n\nDon’t forget to bring your chairs\, membership cards and money for 50/50 \n\n\n\nPlease register HERE
URL:https://ottawamustang.club/event/omc-weekly-meeting-at-the-mustang-auto-shop/
LOCATION:Mustang Auto Shop Inc\, 950 Moodie Dri\, Unit C\, Ottawa\, ON\, Canada
CATEGORIES:Calendar,Members
ATTACH;FMTTYPE=image/jpeg:https://ottawamustang.club/wp-content/uploads/2025/05/Mustang-shop.jpeg
END:VEVENT
BEGIN:VEVENT
DTSTART;TZID=America/Toronto:20250626T180000
DTEND;TZID=America/Toronto:20250626T200000
DTSTAMP:20260422T094258
CREATED:20250602T193507Z
LAST-MODIFIED:20250602T193509Z
UID:1807-1750960800-1750968000@ottawamustang.club
SUMMARY:Meet Up at Barrhaven Ford
DESCRIPTION:OMC Meet UP \n\n\n\nWe are going to see one our Sponsors!!! \n\n\n\nBarrhaven Ford has invited us to meet up at their location. They are even offering to BBQ for us!! \n\n\n\nWhere: Barrhaven Ford \n\n\n\nAddress: 555 Dealership Drive\, Barrhaven \n\n\n\nTime: 6:00 pm – 8:00 pm \n\n\n\nWe need to let them know how many people are coming by Friday June 20th\, so don’t hesitate…register NOW \n\n\n\nRemember\, bring your chairs\, your membership cards and money for the 50/50!
URL:https://ottawamustang.club/event/meet-up-at-barrhaven-ford/
LOCATION:ON
CATEGORIES:Calendar,Members
ATTACH;FMTTYPE=image/jpeg:https://ottawamustang.club/wp-content/uploads/2024/03/barrhaven_ford.jpg
END:VEVENT
BEGIN:VEVENT
DTSTART;TZID=America/Toronto:20250629T120000
DTEND;TZID=America/Toronto:20250629T160000
DTSTAMP:20260422T094258
CREATED:20250512T192349Z
LAST-MODIFIED:20250602T193638Z
UID:1750-1751198400-1751212800@ottawamustang.club
SUMMARY:Meet & Grease!
DESCRIPTION:Derand Motosport Presents: Meat and Grease Car Show \n\n\n\nWhen: Sunday\, June 29th \n\n\n\nTime: Noon to 4:00 pm \n\n\n\nWhere: 1231 Newmarket\, Ottawa \n\n\n\nThis is a great event put on by one of our great sponsors\, all to benefit the Heart Institute! \n\n\n\nLet’s go and show our support! \n\n\n\nDerand has offered to save some space for us to park together\, so please register HERE so I can let them know how many cars are coming.
URL:https://ottawamustang.club/event/meet-grease/
LOCATION:ON
ATTACH;FMTTYPE=image/png:https://ottawamustang.club/wp-content/uploads/2024/07/image-4.png
END:VEVENT
END:VCALENDAR