BEGIN:VCALENDAR
VERSION:2.0
PRODID:-//OTTAWA MUSTANG CLUB - ECPv6.15.20//NONSGML v1.0//EN
CALSCALE:GREGORIAN
METHOD:PUBLISH
X-WR-CALNAME:OTTAWA MUSTANG CLUB
X-ORIGINAL-URL:https://ottawamustang.club
X-WR-CALDESC:Events for OTTAWA MUSTANG CLUB
REFRESH-INTERVAL;VALUE=DURATION:PT1H
X-Robots-Tag:noindex
X-PUBLISHED-TTL:PT1H
BEGIN:VTIMEZONE
TZID:America/Toronto
BEGIN:DAYLIGHT
TZOFFSETFROM:-0500
TZOFFSETTO:-0400
TZNAME:EDT
DTSTART:20230312T070000
END:DAYLIGHT
BEGIN:STANDARD
TZOFFSETFROM:-0400
TZOFFSETTO:-0500
TZNAME:EST
DTSTART:20231105T060000
END:STANDARD
BEGIN:DAYLIGHT
TZOFFSETFROM:-0500
TZOFFSETTO:-0400
TZNAME:EDT
DTSTART:20240310T070000
END:DAYLIGHT
BEGIN:STANDARD
TZOFFSETFROM:-0400
TZOFFSETTO:-0500
TZNAME:EST
DTSTART:20241103T060000
END:STANDARD
BEGIN:DAYLIGHT
TZOFFSETFROM:-0500
TZOFFSETTO:-0400
TZNAME:EDT
DTSTART:20250309T070000
END:DAYLIGHT
BEGIN:STANDARD
TZOFFSETFROM:-0400
TZOFFSETTO:-0500
TZNAME:EST
DTSTART:20251102T060000
END:STANDARD
END:VTIMEZONE
BEGIN:VEVENT
DTSTART;TZID=America/Toronto:20240410T053000
DTEND;TZID=America/Toronto:20240410T193000
DTSTAMP:20260420T074949
CREATED:20240410T140542Z
LAST-MODIFIED:20240410T140544Z
UID:857-1712727000-1712777400@ottawamustang.club
SUMMARY:Pop Up Meeting
DESCRIPTION:It’s going to be a nice evening\, so let’s get together!  Bring your Pony and if its still in storage\, bring your daily drive…just come out!
URL:https://ottawamustang.club/event/pop-up-meeting/
LOCATION:Canadian Tire Parking Lot\, 1820 Merivale Road\, Nepean\, On\, K2G 1E6\, Canada
CATEGORIES:Calendar,Public
ATTACH;FMTTYPE=image/jpeg:https://ottawamustang.club/wp-content/uploads/2024/04/Canadian-Tire-Merivale.jpg
END:VEVENT
BEGIN:VEVENT
DTSTART;TZID=America/Toronto:20240404T183000
DTEND;TZID=America/Toronto:20240404T203000
DTSTAMP:20260420T074949
CREATED:20240324T235426Z
LAST-MODIFIED:20240324T235740Z
UID:362-1712255400-1712262600@ottawamustang.club
SUMMARY:Dinner Meeting
DESCRIPTION:Dinner with the OMC
URL:https://ottawamustang.club/event/dinner-meeting/
LOCATION:O’Brien’s Road House\, 730 Industrial Ave\, Ottawa\, ON\, K1G 0Y9\, Canada
CATEGORIES:Members
ATTACH;FMTTYPE=image/jpeg:https://ottawamustang.club/wp-content/uploads/2024/03/Obriens.jpg
END:VEVENT
END:VCALENDAR