BEGIN:VCALENDAR
VERSION:2.0
PRODID:-//OTTAWA MUSTANG CLUB - ECPv6.15.20//NONSGML v1.0//EN
CALSCALE:GREGORIAN
METHOD:PUBLISH
X-ORIGINAL-URL:https://ottawamustang.club
X-WR-CALDESC:Events for OTTAWA MUSTANG CLUB
REFRESH-INTERVAL;VALUE=DURATION:PT1H
X-Robots-Tag:noindex
X-PUBLISHED-TTL:PT1H
BEGIN:VTIMEZONE
TZID:America/Toronto
BEGIN:DAYLIGHT
TZOFFSETFROM:-0500
TZOFFSETTO:-0400
TZNAME:EDT
DTSTART:20250309T070000
END:DAYLIGHT
BEGIN:STANDARD
TZOFFSETFROM:-0400
TZOFFSETTO:-0500
TZNAME:EST
DTSTART:20251102T060000
END:STANDARD
BEGIN:DAYLIGHT
TZOFFSETFROM:-0500
TZOFFSETTO:-0400
TZNAME:EDT
DTSTART:20260308T070000
END:DAYLIGHT
BEGIN:STANDARD
TZOFFSETFROM:-0400
TZOFFSETTO:-0500
TZNAME:EST
DTSTART:20261101T060000
END:STANDARD
BEGIN:DAYLIGHT
TZOFFSETFROM:-0500
TZOFFSETTO:-0400
TZNAME:EDT
DTSTART:20270314T070000
END:DAYLIGHT
BEGIN:STANDARD
TZOFFSETFROM:-0400
TZOFFSETTO:-0500
TZNAME:EST
DTSTART:20271107T060000
END:STANDARD
END:VTIMEZONE
BEGIN:VEVENT
DTSTART;TZID=America/Toronto:20260115T190000
DTEND;TZID=America/Toronto:20260115T190000
DTSTAMP:20260421T013834
CREATED:20260112T130558Z
LAST-MODIFIED:20260112T130600Z
UID:2123-1768503600-1768503600@ottawamustang.club
SUMMARY:Dinner Meet Up
DESCRIPTION:We are gathering together to enjoy a delicious meal and great company
URL:https://ottawamustang.club/event/dinner-meet-up/
LOCATION:Summerhays Bar & Grill\, 1971 Baseline Road\, Ottawa\, ON\, Canada
CATEGORIES:Calendar,Members
ATTACH;FMTTYPE=image/png:https://ottawamustang.club/wp-content/uploads/2026/01/summerhays.png
END:VEVENT
END:VCALENDAR