BEGIN:VCALENDAR
VERSION:2.0
PRODID:-//OTTAWA MUSTANG CLUB - ECPv6.15.20//NONSGML v1.0//EN
CALSCALE:GREGORIAN
METHOD:PUBLISH
X-ORIGINAL-URL:https://ottawamustang.club
X-WR-CALDESC:Events for OTTAWA MUSTANG CLUB
REFRESH-INTERVAL;VALUE=DURATION:PT1H
X-Robots-Tag:noindex
X-PUBLISHED-TTL:PT1H
BEGIN:VTIMEZONE
TZID:America/Toronto
BEGIN:DAYLIGHT
TZOFFSETFROM:-0500
TZOFFSETTO:-0400
TZNAME:EDT
DTSTART:20240310T070000
END:DAYLIGHT
BEGIN:STANDARD
TZOFFSETFROM:-0400
TZOFFSETTO:-0500
TZNAME:EST
DTSTART:20241103T060000
END:STANDARD
BEGIN:DAYLIGHT
TZOFFSETFROM:-0500
TZOFFSETTO:-0400
TZNAME:EDT
DTSTART:20250309T070000
END:DAYLIGHT
BEGIN:STANDARD
TZOFFSETFROM:-0400
TZOFFSETTO:-0500
TZNAME:EST
DTSTART:20251102T060000
END:STANDARD
BEGIN:DAYLIGHT
TZOFFSETFROM:-0500
TZOFFSETTO:-0400
TZNAME:EDT
DTSTART:20260308T070000
END:DAYLIGHT
BEGIN:STANDARD
TZOFFSETFROM:-0400
TZOFFSETTO:-0500
TZNAME:EST
DTSTART:20261101T060000
END:STANDARD
END:VTIMEZONE
BEGIN:VEVENT
DTSTART;TZID=America/Toronto:20251120T180000
DTEND;TZID=America/Toronto:20251120T200000
DTSTAMP:20260422T035356
CREATED:20251117T160230Z
LAST-MODIFIED:20251117T160603Z
UID:2089-1763661600-1763668800@ottawamustang.club
SUMMARY:OMC Indoor Meet Up - Dinner
DESCRIPTION:1st Indoor Dinner Meet Up \n\n\n\nUnfortunately\, with the weather being unpredictable\, it wasn’t ideal to take the cars out for the Barrhaven Santa Parade\, so we had to make the difficult and disappointing decision to cancel the participation of the event. We were all looking forward to it\, however\, it’s more important to keep our ponies safe. Hopefully next year\, we will be able join again! \n\n\n\nBut….with not doing this event\, it means\, it opens us up to doing something else. So\, if we can’t drive….LET’S EAT!!! \n\n\n\nWe are going to gather\, eat and enjoy our company at: \n\n\n\n\nWhere: The Tap Room\n\n\n\nAddress: 260 Centrum Blvd\, Orleans\n\n\n\nDate: Thursday\, November 20th\n\n\n\nTime: 6:00 pm\n\n\n\n\nAs this is a Meet Up\, don’t forget your membership cards to enter for the door prizes. \n\n\n\nPlease let us know if you can make it so we can secure the number of tables we need. REGISTER here!
URL:https://ottawamustang.club/event/omc-indoor-meet-up-dinner/
LOCATION:ON
CATEGORIES:Calendar,Members
END:VEVENT
END:VCALENDAR