BEGIN:VCALENDAR
VERSION:2.0
PRODID:-//OTTAWA MUSTANG CLUB - ECPv6.15.20//NONSGML v1.0//EN
CALSCALE:GREGORIAN
METHOD:PUBLISH
X-WR-CALNAME:OTTAWA MUSTANG CLUB
X-ORIGINAL-URL:https://ottawamustang.club
X-WR-CALDESC:Events for OTTAWA MUSTANG CLUB
REFRESH-INTERVAL;VALUE=DURATION:PT1H
X-Robots-Tag:noindex
X-PUBLISHED-TTL:PT1H
BEGIN:VTIMEZONE
TZID:America/Toronto
BEGIN:DAYLIGHT
TZOFFSETFROM:-0500
TZOFFSETTO:-0400
TZNAME:EDT
DTSTART:20240310T070000
END:DAYLIGHT
BEGIN:STANDARD
TZOFFSETFROM:-0400
TZOFFSETTO:-0500
TZNAME:EST
DTSTART:20241103T060000
END:STANDARD
BEGIN:DAYLIGHT
TZOFFSETFROM:-0500
TZOFFSETTO:-0400
TZNAME:EDT
DTSTART:20250309T070000
END:DAYLIGHT
BEGIN:STANDARD
TZOFFSETFROM:-0400
TZOFFSETTO:-0500
TZNAME:EST
DTSTART:20251102T060000
END:STANDARD
BEGIN:DAYLIGHT
TZOFFSETFROM:-0500
TZOFFSETTO:-0400
TZNAME:EDT
DTSTART:20260308T070000
END:DAYLIGHT
BEGIN:STANDARD
TZOFFSETFROM:-0400
TZOFFSETTO:-0500
TZNAME:EST
DTSTART:20261101T060000
END:STANDARD
END:VTIMEZONE
BEGIN:VEVENT
DTSTART;TZID=America/Toronto:20250918T180000
DTEND;TZID=America/Toronto:20250918T200000
DTSTAMP:20260422T064150
CREATED:20250915T114936Z
LAST-MODIFIED:20250915T114938Z
UID:2018-1758218400-1758225600@ottawamustang.club
SUMMARY:OMC Open Meet Up
DESCRIPTION:We are gathering at the Parking Lot at the Canadian Tire / Marks Work Warehouse on Merivale and Hunt Club this week at our OPEN meet up. So\, invite anyone who might be interested in joining us for some cars\, chats and some laughs! \n\n\n\nWhen: Thursday September 18th\, 2025 \n\n\n\nTime: 6:00 pm to 8:00 pm (note the time change due to the shorter days) \n\n\n\nWhere: Canadian Tire / Marks Work Warehouse Parking Lot – 1840 Merivale Road\, Nepean \n\n\n\nWhat to bring: \n\n\n\n\nYour Chairs\n\n\n\nMoney for the 50/50\n\n\n\nYour Membership Card for Door prizes\n\n\n\n\nSomething NEW: Bring some money for the Raffle Tickets….see picture above!!
URL:https://ottawamustang.club/event/omc-open-meet-up-4/
LOCATION:ON
CATEGORIES:Calendar,Public
END:VEVENT
END:VCALENDAR