BEGIN:VCALENDAR
VERSION:2.0
PRODID:-//OTTAWA MUSTANG CLUB - ECPv6.15.20//NONSGML v1.0//EN
CALSCALE:GREGORIAN
METHOD:PUBLISH
X-ORIGINAL-URL:https://ottawamustang.club
X-WR-CALDESC:Events for OTTAWA MUSTANG CLUB
REFRESH-INTERVAL;VALUE=DURATION:PT1H
X-Robots-Tag:noindex
X-PUBLISHED-TTL:PT1H
BEGIN:VTIMEZONE
TZID:America/Toronto
BEGIN:DAYLIGHT
TZOFFSETFROM:-0500
TZOFFSETTO:-0400
TZNAME:EDT
DTSTART:20240310T070000
END:DAYLIGHT
BEGIN:STANDARD
TZOFFSETFROM:-0400
TZOFFSETTO:-0500
TZNAME:EST
DTSTART:20241103T060000
END:STANDARD
BEGIN:DAYLIGHT
TZOFFSETFROM:-0500
TZOFFSETTO:-0400
TZNAME:EDT
DTSTART:20250309T070000
END:DAYLIGHT
BEGIN:STANDARD
TZOFFSETFROM:-0400
TZOFFSETTO:-0500
TZNAME:EST
DTSTART:20251102T060000
END:STANDARD
BEGIN:DAYLIGHT
TZOFFSETFROM:-0500
TZOFFSETTO:-0400
TZNAME:EDT
DTSTART:20260308T070000
END:DAYLIGHT
BEGIN:STANDARD
TZOFFSETFROM:-0400
TZOFFSETTO:-0500
TZNAME:EST
DTSTART:20261101T060000
END:STANDARD
END:VTIMEZONE
BEGIN:VEVENT
DTSTART;TZID=America/Toronto:20250730T183000
DTEND;TZID=America/Toronto:20250730T200000
DTSTAMP:20260422T081220
CREATED:20250703T154224Z
LAST-MODIFIED:20250703T154226Z
UID:1928-1753900200-1753905600@ottawamustang.club
SUMMARY:We are going to a Ball Game!!
DESCRIPTION:Join us for a fun and meaningful evening with the Russell Challengers on Tuesday\, July 30\, at the Russell Fairgrounds Ball Park (1076 Concession St\, Russell\, ON K4R 1E8).  \n\n\n\nThe game starts at 6:30 PM\, so please arrive a bit earlier to get settled.  \n\n\n\nWhat to bring:  \n\n\n\n\nYour Glove\n\n\n\nYour Smile\n\n\n\nYour Positive Attitude\n\n\n\n\nThe Challengers are a wonderful group of players\, many of whom have physical or intellectual disabilities.  \n\n\n\nThe game is very relaxed and inclusive—some players may have limited mobility or slower reflexes\, so please avoid strong line drives.  \n\n\n\nYour presence means the world to them\, and they truly look forward to sharing the field with you. Let’s make it a memorable evening for everyone! \n\n\n\nAfter the game\, we will head over to DQ and celebrate their win! \n\n\n\nPlease register HERE
URL:https://ottawamustang.club/event/we-are-going-to-a-ball-game/
LOCATION:Russell Fairgrounds\, 1076 Concession St\, Russell\, On\, K4R 1E8\, Canada
CATEGORIES:Calendar,Members
ATTACH;FMTTYPE=image/jpeg:https://ottawamustang.club/wp-content/uploads/2025/07/Russell-Challengers.jpg
END:VEVENT
END:VCALENDAR