BEGIN:VCALENDAR
VERSION:2.0
PRODID:-//OTTAWA MUSTANG CLUB - ECPv6.15.20//NONSGML v1.0//EN
CALSCALE:GREGORIAN
METHOD:PUBLISH
X-WR-CALNAME:OTTAWA MUSTANG CLUB
X-ORIGINAL-URL:https://ottawamustang.club
X-WR-CALDESC:Events for OTTAWA MUSTANG CLUB
REFRESH-INTERVAL;VALUE=DURATION:PT1H
X-Robots-Tag:noindex
X-PUBLISHED-TTL:PT1H
BEGIN:VTIMEZONE
TZID:America/Toronto
BEGIN:DAYLIGHT
TZOFFSETFROM:-0500
TZOFFSETTO:-0400
TZNAME:EDT
DTSTART:20240310T070000
END:DAYLIGHT
BEGIN:STANDARD
TZOFFSETFROM:-0400
TZOFFSETTO:-0500
TZNAME:EST
DTSTART:20241103T060000
END:STANDARD
BEGIN:DAYLIGHT
TZOFFSETFROM:-0500
TZOFFSETTO:-0400
TZNAME:EDT
DTSTART:20250309T070000
END:DAYLIGHT
BEGIN:STANDARD
TZOFFSETFROM:-0400
TZOFFSETTO:-0500
TZNAME:EST
DTSTART:20251102T060000
END:STANDARD
BEGIN:DAYLIGHT
TZOFFSETFROM:-0500
TZOFFSETTO:-0400
TZNAME:EDT
DTSTART:20260308T070000
END:DAYLIGHT
BEGIN:STANDARD
TZOFFSETFROM:-0400
TZOFFSETTO:-0500
TZNAME:EST
DTSTART:20261101T060000
END:STANDARD
END:VTIMEZONE
BEGIN:VEVENT
DTSTART;TZID=America/Toronto:20250724T183000
DTEND;TZID=America/Toronto:20250724T203000
DTSTAMP:20260422T093953
CREATED:20250703T151650Z
LAST-MODIFIED:20250703T151652Z
UID:1920-1753381800-1753389000@ottawamustang.club
SUMMARY:OMC Open Meet Up
DESCRIPTION:We are heading to Barrhaven for our weekly meet up.  This is an Open Meet to feel free to invite anyone to come along. \n\n\n\nDon’t forget your chairs\, your membership cards and money for the 50/50 draw
URL:https://ottawamustang.club/event/omc-open-meet-up-3/
LOCATION:Staples Marketplace\, 101 Marketplace Ave\, Barrhaven\, ON\, Canada
CATEGORIES:Calendar,Public
ATTACH;FMTTYPE=image/png:https://ottawamustang.club/wp-content/uploads/2024/09/image-6.png
END:VEVENT
END:VCALENDAR