BEGIN:VCALENDAR
VERSION:2.0
PRODID:-//OTTAWA MUSTANG CLUB - ECPv6.15.20//NONSGML v1.0//EN
CALSCALE:GREGORIAN
METHOD:PUBLISH
X-ORIGINAL-URL:https://ottawamustang.club
X-WR-CALDESC:Events for OTTAWA MUSTANG CLUB
REFRESH-INTERVAL;VALUE=DURATION:PT1H
X-Robots-Tag:noindex
X-PUBLISHED-TTL:PT1H
BEGIN:VTIMEZONE
TZID:America/Toronto
BEGIN:DAYLIGHT
TZOFFSETFROM:-0500
TZOFFSETTO:-0400
TZNAME:EDT
DTSTART:20240310T070000
END:DAYLIGHT
BEGIN:STANDARD
TZOFFSETFROM:-0400
TZOFFSETTO:-0500
TZNAME:EST
DTSTART:20241103T060000
END:STANDARD
BEGIN:DAYLIGHT
TZOFFSETFROM:-0500
TZOFFSETTO:-0400
TZNAME:EDT
DTSTART:20250309T070000
END:DAYLIGHT
BEGIN:STANDARD
TZOFFSETFROM:-0400
TZOFFSETTO:-0500
TZNAME:EST
DTSTART:20251102T060000
END:STANDARD
BEGIN:DAYLIGHT
TZOFFSETFROM:-0500
TZOFFSETTO:-0400
TZNAME:EDT
DTSTART:20260308T070000
END:DAYLIGHT
BEGIN:STANDARD
TZOFFSETFROM:-0400
TZOFFSETTO:-0500
TZNAME:EST
DTSTART:20261101T060000
END:STANDARD
END:VTIMEZONE
BEGIN:VEVENT
DTSTART;TZID=America/Toronto:20250719T090000
DTEND;TZID=America/Toronto:20250719T150000
DTSTAMP:20260422T093153
CREATED:20250703T151142Z
LAST-MODIFIED:20250703T151144Z
UID:1917-1752915600-1752937200@ottawamustang.club
SUMMARY:Westport Car Show
DESCRIPTION:We are heading out to Westport for their Annual Show and Shine!  We will be cruising out of Barrhaven (from the Park and Ride on Strandherd – Opposite Movati) at 7:30 am.  We will cruise to Westport and be parked together as a club \n\n\n\nIf you have not already done so\, please register HERE as we need to advise them the number of cars coming.
URL:https://ottawamustang.club/event/westport-car-show-2/
LOCATION:ON
CATEGORIES:Calendar,Members
ATTACH;FMTTYPE=image/jpeg:https://ottawamustang.club/wp-content/uploads/2025/06/Westport-Car-Show.jpeg
END:VEVENT
END:VCALENDAR