BEGIN:VCALENDAR
VERSION:2.0
PRODID:-//OTTAWA MUSTANG CLUB - ECPv6.15.20//NONSGML v1.0//EN
CALSCALE:GREGORIAN
METHOD:PUBLISH
X-WR-CALNAME:OTTAWA MUSTANG CLUB
X-ORIGINAL-URL:https://ottawamustang.club
X-WR-CALDESC:Events for OTTAWA MUSTANG CLUB
REFRESH-INTERVAL;VALUE=DURATION:PT1H
X-Robots-Tag:noindex
X-PUBLISHED-TTL:PT1H
BEGIN:VTIMEZONE
TZID:America/Toronto
BEGIN:DAYLIGHT
TZOFFSETFROM:-0500
TZOFFSETTO:-0400
TZNAME:EDT
DTSTART:20240310T070000
END:DAYLIGHT
BEGIN:STANDARD
TZOFFSETFROM:-0400
TZOFFSETTO:-0500
TZNAME:EST
DTSTART:20241103T060000
END:STANDARD
BEGIN:DAYLIGHT
TZOFFSETFROM:-0500
TZOFFSETTO:-0400
TZNAME:EDT
DTSTART:20250309T070000
END:DAYLIGHT
BEGIN:STANDARD
TZOFFSETFROM:-0400
TZOFFSETTO:-0500
TZNAME:EST
DTSTART:20251102T060000
END:STANDARD
BEGIN:DAYLIGHT
TZOFFSETFROM:-0500
TZOFFSETTO:-0400
TZNAME:EDT
DTSTART:20260308T070000
END:DAYLIGHT
BEGIN:STANDARD
TZOFFSETFROM:-0400
TZOFFSETTO:-0500
TZNAME:EST
DTSTART:20261101T060000
END:STANDARD
END:VTIMEZONE
BEGIN:VEVENT
DTSTART;TZID=America/Toronto:20250710T183000
DTEND;TZID=America/Toronto:20250710T203000
DTSTAMP:20260422T092925
CREATED:20250703T145816Z
LAST-MODIFIED:20250703T145817Z
UID:1910-1752172200-1752179400@ottawamustang.club
SUMMARY:OMC Open Meet Up
DESCRIPTION:This is an open meet up for anyone to come out.  Invite your friends and family to come out and enjoy our club. \n\n\n\nThere are chip trucks onsite and there are a couple of restaurants nearby.  We will be parking across from Canadian Tire \n\n\n\nDon’t forget to bring your chairs\, your membership cards and money for the 50/50!
URL:https://ottawamustang.club/event/omc-open-meet-up/
LOCATION:Canadian Tire (Hunt Club and Merivale)\, 1825 Merivale Road\, Nepean\, ON
CATEGORIES:Calendar,Public
ATTACH;FMTTYPE=image/jpeg:https://ottawamustang.club/wp-content/uploads/2025/07/Canadian-Tire-Hunt-Club.jpg
END:VEVENT
END:VCALENDAR