BEGIN:VCALENDAR
VERSION:2.0
PRODID:-//OTTAWA MUSTANG CLUB - ECPv6.15.20//NONSGML v1.0//EN
CALSCALE:GREGORIAN
METHOD:PUBLISH
X-WR-CALNAME:OTTAWA MUSTANG CLUB
X-ORIGINAL-URL:https://ottawamustang.club
X-WR-CALDESC:Events for OTTAWA MUSTANG CLUB
REFRESH-INTERVAL;VALUE=DURATION:PT1H
X-Robots-Tag:noindex
X-PUBLISHED-TTL:PT1H
BEGIN:VTIMEZONE
TZID:America/Toronto
BEGIN:DAYLIGHT
TZOFFSETFROM:-0500
TZOFFSETTO:-0400
TZNAME:EDT
DTSTART:20240310T070000
END:DAYLIGHT
BEGIN:STANDARD
TZOFFSETFROM:-0400
TZOFFSETTO:-0500
TZNAME:EST
DTSTART:20241103T060000
END:STANDARD
BEGIN:DAYLIGHT
TZOFFSETFROM:-0500
TZOFFSETTO:-0400
TZNAME:EDT
DTSTART:20250309T070000
END:DAYLIGHT
BEGIN:STANDARD
TZOFFSETFROM:-0400
TZOFFSETTO:-0500
TZNAME:EST
DTSTART:20251102T060000
END:STANDARD
BEGIN:DAYLIGHT
TZOFFSETFROM:-0500
TZOFFSETTO:-0400
TZNAME:EDT
DTSTART:20260308T070000
END:DAYLIGHT
BEGIN:STANDARD
TZOFFSETFROM:-0400
TZOFFSETTO:-0500
TZNAME:EST
DTSTART:20261101T060000
END:STANDARD
END:VTIMEZONE
BEGIN:VEVENT
DTSTART;TZID=America/Toronto:20250706T090000
DTEND;TZID=America/Toronto:20250706T140000
DTSTAMP:20260422T092844
CREATED:20241022T114915Z
LAST-MODIFIED:20241022T114918Z
UID:1344-1751792400-1751810400@ottawamustang.club
SUMMARY:Smiths Falls Cruisers Car Club 2nd Annual Car Show
DESCRIPTION:Non Judge Show\n\n\n\n$10.00 per vehicle Registration Fee\n\n\n\nDoor Prizes\n\n\n\n50/50 Draw\n\n\n\nMusic\n\n\n\nFood\n\n\n\n\nRegister and let’s Cruise in together as a Club!!!   Register HERE
URL:https://ottawamustang.club/event/smiths-falls-cruisers-car-club-2nd-annual-car-show/
LOCATION:ON
CATEGORIES:Calendar,Members
ATTACH;FMTTYPE=image/jpeg:https://ottawamustang.club/wp-content/uploads/2024/10/Smiths-Falls-Car-Show.jpg
END:VEVENT
END:VCALENDAR