BEGIN:VCALENDAR
VERSION:2.0
PRODID:-//OTTAWA MUSTANG CLUB - ECPv6.15.20//NONSGML v1.0//EN
CALSCALE:GREGORIAN
METHOD:PUBLISH
X-WR-CALNAME:OTTAWA MUSTANG CLUB
X-ORIGINAL-URL:https://ottawamustang.club
X-WR-CALDESC:Events for OTTAWA MUSTANG CLUB
REFRESH-INTERVAL;VALUE=DURATION:PT1H
X-Robots-Tag:noindex
X-PUBLISHED-TTL:PT1H
BEGIN:VTIMEZONE
TZID:America/Toronto
BEGIN:DAYLIGHT
TZOFFSETFROM:-0500
TZOFFSETTO:-0400
TZNAME:EDT
DTSTART:20240310T070000
END:DAYLIGHT
BEGIN:STANDARD
TZOFFSETFROM:-0400
TZOFFSETTO:-0500
TZNAME:EST
DTSTART:20241103T060000
END:STANDARD
BEGIN:DAYLIGHT
TZOFFSETFROM:-0500
TZOFFSETTO:-0400
TZNAME:EDT
DTSTART:20250309T070000
END:DAYLIGHT
BEGIN:STANDARD
TZOFFSETFROM:-0400
TZOFFSETTO:-0500
TZNAME:EST
DTSTART:20251102T060000
END:STANDARD
BEGIN:DAYLIGHT
TZOFFSETFROM:-0500
TZOFFSETTO:-0400
TZNAME:EDT
DTSTART:20260308T070000
END:DAYLIGHT
BEGIN:STANDARD
TZOFFSETFROM:-0400
TZOFFSETTO:-0500
TZNAME:EST
DTSTART:20261101T060000
END:STANDARD
END:VTIMEZONE
BEGIN:VEVENT
DTSTART;TZID=America/Toronto:20250529T180000
DTEND;TZID=America/Toronto:20250529T200000
DTSTAMP:20260422T111653
CREATED:20250502T162125Z
LAST-MODIFIED:20250505T181822Z
UID:1733-1748541600-1748548800@ottawamustang.club
SUMMARY:Sponsor Meet Up
DESCRIPTION:Let’s get together to meet one our newest sponsors\, North Coast Custom.  More details to follow
URL:https://ottawamustang.club/event/sponsor-meet-up/
LOCATION:North Coast Customs\, 34 Grenfell Crescent\, Ottawa\, ON\, Canada
CATEGORIES:Calendar,Members
ATTACH;FMTTYPE=image/webp:https://ottawamustang.club/wp-content/uploads/2025/04/NCC_Logo.webp
END:VEVENT
END:VCALENDAR