BEGIN:VCALENDAR
VERSION:2.0
PRODID:-//OTTAWA MUSTANG CLUB - ECPv6.15.20//NONSGML v1.0//EN
CALSCALE:GREGORIAN
METHOD:PUBLISH
X-ORIGINAL-URL:https://ottawamustang.club
X-WR-CALDESC:Events for OTTAWA MUSTANG CLUB
REFRESH-INTERVAL;VALUE=DURATION:PT1H
X-Robots-Tag:noindex
X-PUBLISHED-TTL:PT1H
BEGIN:VTIMEZONE
TZID:America/Toronto
BEGIN:DAYLIGHT
TZOFFSETFROM:-0500
TZOFFSETTO:-0400
TZNAME:EDT
DTSTART:20240310T070000
END:DAYLIGHT
BEGIN:STANDARD
TZOFFSETFROM:-0400
TZOFFSETTO:-0500
TZNAME:EST
DTSTART:20241103T060000
END:STANDARD
BEGIN:DAYLIGHT
TZOFFSETFROM:-0500
TZOFFSETTO:-0400
TZNAME:EDT
DTSTART:20250309T070000
END:DAYLIGHT
BEGIN:STANDARD
TZOFFSETFROM:-0400
TZOFFSETTO:-0500
TZNAME:EST
DTSTART:20251102T060000
END:STANDARD
BEGIN:DAYLIGHT
TZOFFSETFROM:-0500
TZOFFSETTO:-0400
TZNAME:EDT
DTSTART:20260308T070000
END:DAYLIGHT
BEGIN:STANDARD
TZOFFSETFROM:-0400
TZOFFSETTO:-0500
TZNAME:EST
DTSTART:20261101T060000
END:STANDARD
END:VTIMEZONE
BEGIN:VEVENT
DTSTART;TZID=America/Toronto:20250109T063000
DTEND;TZID=America/Toronto:20250109T080000
DTSTAMP:20260421T112021
CREATED:20241211T111249Z
LAST-MODIFIED:20241211T111251Z
UID:1424-1736404200-1736409600@ottawamustang.club
SUMMARY:OMC Dinner Meeting
DESCRIPTION:Let’s get together for a meal and some friendly chats!!   \n\n\n\nMake sure to RSVP so we have numbers.
URL:https://ottawamustang.club/event/omc-dinner-meeting/
LOCATION:Wild Wings Kanata\, 700 Eagleson Road\, Kanata\, ON\, K2M 2G9
CATEGORIES:Calendar,Members
ATTACH;FMTTYPE=image/png:https://ottawamustang.club/wp-content/uploads/2024/12/Wild-Wings-Kanata.png
END:VEVENT
END:VCALENDAR