BEGIN:VCALENDAR
VERSION:2.0
PRODID:-//OTTAWA MUSTANG CLUB - ECPv6.15.20//NONSGML v1.0//EN
CALSCALE:GREGORIAN
METHOD:PUBLISH
X-WR-CALNAME:OTTAWA MUSTANG CLUB
X-ORIGINAL-URL:https://ottawamustang.club
X-WR-CALDESC:Events for OTTAWA MUSTANG CLUB
REFRESH-INTERVAL;VALUE=DURATION:PT1H
X-Robots-Tag:noindex
X-PUBLISHED-TTL:PT1H
BEGIN:VTIMEZONE
TZID:America/Toronto
BEGIN:DAYLIGHT
TZOFFSETFROM:-0500
TZOFFSETTO:-0400
TZNAME:EDT
DTSTART:20230312T070000
END:DAYLIGHT
BEGIN:STANDARD
TZOFFSETFROM:-0400
TZOFFSETTO:-0500
TZNAME:EST
DTSTART:20231105T060000
END:STANDARD
BEGIN:DAYLIGHT
TZOFFSETFROM:-0500
TZOFFSETTO:-0400
TZNAME:EDT
DTSTART:20240310T070000
END:DAYLIGHT
BEGIN:STANDARD
TZOFFSETFROM:-0400
TZOFFSETTO:-0500
TZNAME:EST
DTSTART:20241103T060000
END:STANDARD
BEGIN:DAYLIGHT
TZOFFSETFROM:-0500
TZOFFSETTO:-0400
TZNAME:EDT
DTSTART:20250309T070000
END:DAYLIGHT
BEGIN:STANDARD
TZOFFSETFROM:-0400
TZOFFSETTO:-0500
TZNAME:EST
DTSTART:20251102T060000
END:STANDARD
END:VTIMEZONE
BEGIN:VEVENT
DTSTART;TZID=America/Toronto:20240525T090000
DTEND;TZID=America/Toronto:20240525T130000
DTSTAMP:20260420T073951
CREATED:20240327T113518Z
LAST-MODIFIED:20240327T113519Z
UID:486-1716627600-1716642000@ottawamustang.club
SUMMARY:Tomlinson Show & Shine
DESCRIPTION:Come experience one of Ottawa’s largest car shows. Join us at our 100 CitiGate Drive location for our 4th annual charity car show. \n\n\n\nLast year we saw an estimated 300+ cars\, trucks\, and bikes\, who all helped raise over $11\,000 for BGC Ottawa. But this year\, we want to go even bigger! \n\n\n\nWe’re accepting all vehicles from classics\, imports\, trucks\, motorcycles\, and more. Take part in our BBQ\, awards\, 50/50\, and live music. PLUS free admission. Lunch available by cash donation to the Boys & Girls Club of Ottawa
URL:https://ottawamustang.club/event/tomlinson-show-shine/
LOCATION:Tomlinson Head Office\, 100 Citigate Drive\, Nepean\, ON\, K2J 6K7\, Canada
CATEGORIES:Members
ATTACH;FMTTYPE=image/jpeg:https://ottawamustang.club/wp-content/uploads/2024/03/Tomlinson.jpg
END:VEVENT
END:VCALENDAR