BEGIN:VCALENDAR
VERSION:2.0
PRODID:-//OTTAWA MUSTANG CLUB - ECPv6.15.20//NONSGML v1.0//EN
CALSCALE:GREGORIAN
METHOD:PUBLISH
X-ORIGINAL-URL:https://ottawamustang.club
X-WR-CALDESC:Events for OTTAWA MUSTANG CLUB
REFRESH-INTERVAL;VALUE=DURATION:PT1H
X-Robots-Tag:noindex
X-PUBLISHED-TTL:PT1H
BEGIN:VTIMEZONE
TZID:America/Toronto
BEGIN:DAYLIGHT
TZOFFSETFROM:-0500
TZOFFSETTO:-0400
TZNAME:EDT
DTSTART:20230312T070000
END:DAYLIGHT
BEGIN:STANDARD
TZOFFSETFROM:-0400
TZOFFSETTO:-0500
TZNAME:EST
DTSTART:20231105T060000
END:STANDARD
BEGIN:DAYLIGHT
TZOFFSETFROM:-0500
TZOFFSETTO:-0400
TZNAME:EDT
DTSTART:20240310T070000
END:DAYLIGHT
BEGIN:STANDARD
TZOFFSETFROM:-0400
TZOFFSETTO:-0500
TZNAME:EST
DTSTART:20241103T060000
END:STANDARD
BEGIN:DAYLIGHT
TZOFFSETFROM:-0500
TZOFFSETTO:-0400
TZNAME:EDT
DTSTART:20250309T070000
END:DAYLIGHT
BEGIN:STANDARD
TZOFFSETFROM:-0400
TZOFFSETTO:-0500
TZNAME:EST
DTSTART:20251102T060000
END:STANDARD
END:VTIMEZONE
BEGIN:VEVENT
DTSTART;TZID=America/Toronto:20240509T180000
DTEND;TZID=America/Toronto:20240509T200000
DTSTAMP:20260421T074533
CREATED:20240326T103317Z
LAST-MODIFIED:20240509T101926Z
UID:456-1715277600-1715284800@ottawamustang.club
SUMMARY:** UPDATED**  OMC Weekly Meeting
DESCRIPTION:Let’s get together!  Don’t forget your chairs\, your membership cards for door prizes and money for a special 50/50 Draw!
URL:https://ottawamustang.club/event/weekly-meeting/
LOCATION:Rexall’s Parking Lot\, 1615 Orleans Blvd\, Orleans\, ON\, Canada
CATEGORIES:Public
ATTACH;FMTTYPE=image/jpeg:https://ottawamustang.club/wp-content/uploads/2024/03/Ray-Friel.jpg
END:VEVENT
END:VCALENDAR